BEGIN:VCALENDAR
VERSION:2.0
PRODID:-//The Fifth Season - ECPv6.15.20//NONSGML v1.0//EN
CALSCALE:GREGORIAN
METHOD:PUBLISH
X-WR-CALNAME:The Fifth Season
X-ORIGINAL-URL:https://thefifthseason.com
X-WR-CALDESC:Events for The Fifth Season
REFRESH-INTERVAL;VALUE=DURATION:PT1H
X-Robots-Tag:noindex
X-PUBLISHED-TTL:PT1H
BEGIN:VTIMEZONE
TZID:America/Los_Angeles
BEGIN:DAYLIGHT
TZOFFSETFROM:-0800
TZOFFSETTO:-0700
TZNAME:PDT
DTSTART:20180311T100000
END:DAYLIGHT
BEGIN:STANDARD
TZOFFSETFROM:-0700
TZOFFSETTO:-0800
TZNAME:PST
DTSTART:20181104T090000
END:STANDARD
BEGIN:DAYLIGHT
TZOFFSETFROM:-0800
TZOFFSETTO:-0700
TZNAME:PDT
DTSTART:20190310T100000
END:DAYLIGHT
BEGIN:STANDARD
TZOFFSETFROM:-0700
TZOFFSETTO:-0800
TZNAME:PST
DTSTART:20191103T090000
END:STANDARD
BEGIN:DAYLIGHT
TZOFFSETFROM:-0800
TZOFFSETTO:-0700
TZNAME:PDT
DTSTART:20200308T100000
END:DAYLIGHT
BEGIN:STANDARD
TZOFFSETFROM:-0700
TZOFFSETTO:-0800
TZNAME:PST
DTSTART:20201101T090000
END:STANDARD
BEGIN:DAYLIGHT
TZOFFSETFROM:-0800
TZOFFSETTO:-0700
TZNAME:PDT
DTSTART:20210314T100000
END:DAYLIGHT
BEGIN:STANDARD
TZOFFSETFROM:-0700
TZOFFSETTO:-0800
TZNAME:PST
DTSTART:20211107T090000
END:STANDARD
END:VTIMEZONE
BEGIN:VEVENT
DTSTART;VALUE=DATE:20200530
DTEND;VALUE=DATE:20200531
DTSTAMP:20260422T124819
CREATED:20200120T193030Z
LAST-MODIFIED:20200120T193030Z
UID:2080-1590796800-1590883199@thefifthseason.com
SUMMARY:4MPH Challenge Backyard Ultra
DESCRIPTION:How many times can you run 4 miles in an hour? \nA secluded and beautiful 4.166667 -mile out and back course along The Great Shasta Rail Trail. Any time under 60 minutes counts as success! When you finish\, you can sit down\, eat and drink\, visit with other runners\, whatever. \nWhen the 60 minutes are up\, head back the same way \nOnce again you have exactly 60 minutes to finish. And then… \nYou Get To Do It Again! \nThe first time that you fail to finish a 4.166667 mile leg in 60 minutes\, game over.. \nAnd if you do make it\, congratulations\, you’re tied for first place! \nHow many legs can you do? How many miles? \nHow long can you keep up the pace? \nSince everyone starts every lap together and hangs out together between laps\, this is a very social event. As for the race yourself\, whether your goal is one lap or 20\, your main competition is yourself. How far can you go? And will you be able to come back next year and go further? No time limit\, I’ll stick around as long as you keep up the 4MPH pace! (I’m not worried\, I know that sleep deprivation will catch up with you eventually). \nWe will have 4 Categories:\n1. Up to 12.5 Miles\n2. Up to 37.5 Miles\n3. Up to 100 Miles\n4. Unlimited!
URL:https://thefifthseason.com/event/4mph-challenge-backyard-ultra/
LOCATION:Great Shasta Rail Trail\, McCloud\, CA\, United States
CATEGORIES:Trail running
END:VEVENT
BEGIN:VEVENT
DTSTART;VALUE=DATE:20200523
DTEND;VALUE=DATE:20200525
DTSTAMP:20260422T124819
CREATED:20200120T203112Z
LAST-MODIFIED:20200120T203112Z
UID:2114-1590192000-1590364799@thefifthseason.com
SUMMARY:The Art of Survival Century - road and gravel
DESCRIPTION:We are excited to announce our 7th Annual ART OF SURVIVAL CENTURY (AOS) bicycle ride on Memorial Day weekend\, MAY 22-24\, 2020\, with pre-ride reception on Friday\, AOS road ride on Saturday and AOS Gravel Grinder ride on Sunday.  We have some great events planned! \nBRING ALL YOUR FRIENDS\nThe AOS ride is way more fun when you have all your favorite riding buddies along for the adventure. Plus\, with so much to see and do in our region\, even your non-riding friends will have a blast. We have a variety of route options and something for everyone.\nYour support will bring important economic vitality to our region and we are thrilled to be hosting you for the weekend. Come pedal for potatoes with us! Everyone goes home with a sack of locally grown potatoes at the end of both rides. \nRead more about the ride elements and options here.
URL:https://thefifthseason.com/event/the-art-of-survival-century-road-and-gravel/
LOCATION:CA
CATEGORIES:Cycling
END:VEVENT
BEGIN:VEVENT
DTSTART;VALUE=DATE:20200502
DTEND;VALUE=DATE:20200503
DTSTAMP:20260422T124819
CREATED:20200120T202657Z
LAST-MODIFIED:20200120T202657Z
UID:2110-1588377600-1588463999@thefifthseason.com
SUMMARY:Siskiyou Scenic Bicycle Tour
DESCRIPTION:The Siskiyou Scenic Bicycle Tour will be held May 2\, 2020. You will love this ride!! Six different rides – five on pavement of 103\, 68\, 38\, 21 and 8 miles\, and 1 mixed pavement/ gravel of 90 miles – show you Siskiyou County like you’ve never seen it. Enjoy the quiet roads and amazing views. The event kicks off in Upper Greenhorn Park in Yreka\, where tent camping is available. Click the event website link to learn more about the routes \n  \n 
URL:https://thefifthseason.com/event/siskiyou-scenic-bicycle-tour/
LOCATION:Upper Greenhorn Park\, Yreka\, CA\, 96097\, United States
CATEGORIES:Cycling
END:VEVENT
BEGIN:VEVENT
DTSTART;VALUE=DATE:20200425
DTEND;VALUE=DATE:20200426
DTSTAMP:20260422T124819
CREATED:20200120T192609Z
LAST-MODIFIED:20200120T192609Z
UID:2077-1587772800-1587859199@thefifthseason.com
SUMMARY:Castle Crags 50k/30k/10k Trail Run
DESCRIPTION:Come hit the trails at Castle Crag State Park! Pending your level of adventure – take on the 50k\, 35k or 10k and you are guaranteed to let your adrenaline fly. Check out the event page to get course maps and elevation profiles. This is one of Shasta Trail Run’s early season event – be prepared for all kinds of weather.
URL:https://thefifthseason.com/event/castle-crags-50k-30k-10k-trail-run/
LOCATION:CA
CATEGORIES:Trail running
END:VEVENT
BEGIN:VEVENT
DTSTART;TZID=America/Los_Angeles:20200307T090000
DTEND;TZID=America/Los_Angeles:20200307T130000
DTSTAMP:20260422T124819
CREATED:20200120T191315Z
LAST-MODIFIED:20200120T191315Z
UID:2072-1583571600-1583586000@thefifthseason.com
SUMMARY:Companion Rescue Beacon Clinic
DESCRIPTION:Join the Mt. Shasta Climbing Rangers for the Mt. Shasta Avalanche Center’s monthly free training – \nAvalanche transcievers\, or beacons\, are the best tools we have to find someone buried in an avalanche. Join us and learn how to use one and effectively carry out a companion rescue. It is also a great chance to brush up on your skills. Demos of several different types (BCA\, Ortovox\, Pieps\, Mammut/Barryvox) will be available. Dress to be outside on the snow. These clinics take place at the Bunny Flat trailhead. Bring your backcountry ski or snowboard gear and go for a tour after the class! Don’t want to listen to us yak away? You can still come and run through the beacon courses a few times to hone your rescue skills. Remember\, YOU are the rescue party! Get dialed. \nMeet at The Fifth Season in Mt Shasta\, CA – 9 AM ; Carpool to Bunny Flat for a half day training.
URL:https://thefifthseason.com/event/companion-rescue-beacon-clinic-2/
LOCATION:The Fifth Season\, 300 N. Mt. Shasta Blvd\, Mount Shasta\, CA\, 96067\, United States
END:VEVENT
BEGIN:VEVENT
DTSTART;TZID=America/Los_Angeles:20200306T190000
DTEND;TZID=America/Los_Angeles:20200306T203000
DTSTAMP:20260422T124819
CREATED:20200120T190421Z
LAST-MODIFIED:20200120T190421Z
UID:2067-1583521200-1583526600@thefifthseason.com
SUMMARY:FREE Avalanche Awareness Presentation
DESCRIPTION:The Know Before You Go free avalanche awareness program is presented by the Mt. Shasta Avalanche Center in Mt. Shasta during the winter season. \nKnow Before You Go is a free avalanche awareness program. Not much science\, no warnings to stay out of the mountains\, no formulas to memorize. In 1 hour\, you will see the destructive power of avalanches\, understand when and why they happen\, and how you can have fun in the mountains and avoid avalanches. Know Before You Go into the backcountry this winter. Learn how to recognize the clues to avalanche danger along with basics on safe travel in the backcountry. A short film with amazing footage from Sherpa Cinemas\, Red Bull Media House\, Brain Farm\, and the Utah Avalanche Center will be shown followed by a short presentation discussing the salient points of the film.  This is a fun way to connect with the outdoor community\, inspire you to get outside in the winter\, while providing valuable information to keep you safe in and near avalanche terrain. \nCall (530) 926-4511 for more information or click here: Know Before You Go
URL:https://thefifthseason.com/event/free-avalanche-awareness-presentation-2/
LOCATION:Shasta Mountain Guides\, 230 N Mt Shasta Blvd\, Mount Shasta\, CA\, 96067\, United States
END:VEVENT
BEGIN:VEVENT
DTSTART;TZID=America/Los_Angeles:20200223T100000
DTEND;TZID=America/Los_Angeles:20200223T140000
DTSTAMP:20260422T124819
CREATED:20200120T200600Z
LAST-MODIFIED:20200120T201007Z
UID:2095-1582452000-1582466400@thefifthseason.com
SUMMARY:FREE Guided Snowshoe Tour
DESCRIPTION:
URL:https://thefifthseason.com/event/free-guided-snowshoe-tour/
LOCATION:Mt. Shasta Nordic Center\, CA\, 96067\, United States
CATEGORIES:Cross Country skiing
END:VEVENT
BEGIN:VEVENT
DTSTART;TZID=America/Los_Angeles:20200209T100000
DTEND;TZID=America/Los_Angeles:20200209T120000
DTSTAMP:20260422T124819
CREATED:20200120T200931Z
LAST-MODIFIED:20200120T200932Z
UID:2102-1581242400-1581249600@thefifthseason.com
SUMMARY:Senior & Veteran Appreciation Day at Mt. Shasta Nordic Center
DESCRIPTION:
URL:https://thefifthseason.com/event/senior-veteran-appreciation-day-at-mt-shasta-nordic-center/
LOCATION:Mt. Shasta Nordic Center\, CA\, 96067\, United States
CATEGORIES:Cross Country skiing
END:VEVENT
BEGIN:VEVENT
DTSTART;TZID=America/Los_Angeles:20200208T090000
DTEND;TZID=America/Los_Angeles:20200208T130000
DTSTAMP:20260422T124819
CREATED:20200120T190835Z
LAST-MODIFIED:20200120T190835Z
UID:2069-1581152400-1581166800@thefifthseason.com
SUMMARY:Companion Rescue Beacon Clinic
DESCRIPTION:Join the Mt. Shasta Climbing Rangers for the Mt. Shasta Avalanche Center’s monthly free training – \nAvalanche transcievers\, or beacons\, are the best tools we have to find someone buried in an avalanche. Join us and learn how to use one and effectively carry out a companion rescue. It is also a great chance to brush up on your skills. Demos of several different types (BCA\, Ortovox\, Pieps\, Mammut/Barryvox) will be available. Dress to be outside on the snow. These clinics take place at the Bunny Flat trailhead. Bring your backcountry ski or snowboard gear and go for a tour after the class! Don’t want to listen to us yak away? You can still come and run through the beacon courses a few times to hone your rescue skills. Remember\, YOU are the rescue party! Get dialed. \nMeet at The Fifth Season in Mt Shasta\, CA – 9 AM ; Carpool to Bunny Flat for a half day training.
URL:https://thefifthseason.com/event/companion-rescue-beacon-clinic/
LOCATION:The Fifth Season\, 300 N. Mt. Shasta Blvd\, Mount Shasta\, CA\, 96067\, United States
END:VEVENT
BEGIN:VEVENT
DTSTART;TZID=America/Los_Angeles:20200207T190000
DTEND;TZID=America/Los_Angeles:20200207T203000
DTSTAMP:20260422T124819
CREATED:20200120T185608Z
LAST-MODIFIED:20200120T185608Z
UID:2063-1581102000-1581107400@thefifthseason.com
SUMMARY:FREE Avalanche Awareness Presentation
DESCRIPTION:The Know Before You Go free avalanche awareness program is presented by the Mt. Shasta Avalanche Center in Mt. Shasta during the winter season. \nKnow Before You Go is a free avalanche awareness program. Not much science\, no warnings to stay out of the mountains\, no formulas to memorize. In 1 hour\, you will see the destructive power of avalanches\, understand when and why they happen\, and how you can have fun in the mountains and avoid avalanches. Know Before You Go into the backcountry this winter. Learn how to recognize the clues to avalanche danger along with basics on safe travel in the backcountry. A short film with amazing footage from Sherpa Cinemas\, Red Bull Media House\, Brain Farm\, and the Utah Avalanche Center will be shown followed by a short presentation discussing the salient points of the film.  This is a fun way to connect with the outdoor community\, inspire you to get outside in the winter\, while providing valuable information to keep you safe in and near avalanche terrain. \nCall (530) 926-4511 for more information or click here: Know Before You Go
URL:https://thefifthseason.com/event/free-avalanche-awareness-presentation/
LOCATION:Shasta Mountain Guides\, 230 N Mt Shasta Blvd\, Mount Shasta\, CA\, 96067\, United States
CATEGORIES:Education and training
END:VEVENT
BEGIN:VEVENT
DTSTART;VALUE=DATE:20200207
DTEND;VALUE=DATE:20200210
DTSTAMP:20260422T124819
CREATED:20200120T192019Z
LAST-MODIFIED:20200120T192019Z
UID:2074-1581033600-1581292799@thefifthseason.com
SUMMARY:AIARE Level I Avalanche Seminar with Shasta Mountain Guides
DESCRIPTION:Seminar offered by Shasta Mountain Guides \nThe Level I is a 3 day AIARE certified course. We will hold both class and field sessions to provide ample opportunity to learn the fundamentals of traveling in avalanche terrain. Certificate received upon completion. \nVisit Shasta Mountain Guides’ website to book this seminar and view other educational seminars.
URL:https://thefifthseason.com/event/aiare-level-i-avalanche-seminar-with-shasta-mountain-guides/
LOCATION:CA
END:VEVENT
BEGIN:VEVENT
DTSTART;TZID=America/Los_Angeles:20200125T090000
DTEND;TZID=America/Los_Angeles:20200125T100000
DTSTAMP:20260422T124819
CREATED:20200120T200744Z
LAST-MODIFIED:20200120T201048Z
UID:2099-1579942800-1579946400@thefifthseason.com
SUMMARY:FREE Skate Ski Lesson
DESCRIPTION:
URL:https://thefifthseason.com/event/free-skate-ski-lesson/
LOCATION:Mt. Shasta Nordic Center\, CA\, 96067\, United States
CATEGORIES:Cross Country skiing
END:VEVENT
BEGIN:VEVENT
DTSTART;TZID=America/Los_Angeles:20200120T123000
DTEND;TZID=America/Los_Angeles:20200120T170000
DTSTAMP:20260422T124819
CREATED:20200120T195620Z
LAST-MODIFIED:20200120T195620Z
UID:2090-1579523400-1579539600@thefifthseason.com
SUMMARY:Martin Luther King\, Jr. Day Ice Skating
DESCRIPTION:Join Siskiyou Ice Rink on Monday\, Jan. 20 for a special Martin Luther King\, Jr. holiday skate session 12:30-5pm\, in addition to the morning’s Mellow Mondays adults-only skate session 9am-12-pm.
URL:https://thefifthseason.com/event/martin-luther-king-jr-day-ice-skating/
LOCATION:Siskiyou Ice Rink\, 800 Rockfellow Dr\, Mount Shasta\, CA\, 96067\, United States
ORGANIZER;CN="":MAILTO:renee.casterline@gmail.com
END:VEVENT
BEGIN:VEVENT
DTSTART;TZID=America/Los_Angeles:20190602T020000
DTEND;TZID=America/Los_Angeles:20190602T060000
DTSTAMP:20260422T124819
CREATED:20190413T060653Z
LAST-MODIFIED:20190413T060653Z
UID:1389-1559440800-1559455200@thefifthseason.com
SUMMARY:Sisson-Callahan Trail -Work Day-
DESCRIPTION:Take part is helping to maintain truly one of the best trails in town!  We will be getting our hand dirty getting this legendary trail back in business for the season. \nMeet at Twin Arrows parking lot at 9 AM.
URL:https://thefifthseason.com/event/sisson-callahan-trail-work-day/
LOCATION:Twin Arrows Parking lot\, Mt Shasta\, Northern California\, 96067
END:VEVENT
BEGIN:VEVENT
DTSTART;TZID=America/Los_Angeles:20190601T020000
DTEND;TZID=America/Los_Angeles:20190601T060000
DTSTAMP:20260422T124819
CREATED:20190413T060317Z
LAST-MODIFIED:20190413T060317Z
UID:1386-1559354400-1559368800@thefifthseason.com
SUMMARY:Sission-Callahan Trail -Work Day-
DESCRIPTION:Take part is helping to maintain truly one of the best trails in town!  We will be getting our hand dirty getting this legendary trail back in business for the season. \nMeet at Twin Arrows parking lot at 9 AM.
URL:https://thefifthseason.com/event/sission-callahan-trail-work-day/
LOCATION:Twin Arrows Parking lot\, Mt Shasta\, Northern California\, 96067
END:VEVENT
BEGIN:VEVENT
DTSTART;VALUE=DATE:20190517
DTEND;VALUE=DATE:20190519
DTSTAMP:20260422T124819
CREATED:20190413T062032Z
LAST-MODIFIED:20190413T062032Z
UID:1391-1558112400-1558198799@thefifthseason.com
SUMMARY:Gateway Rake & Ride Followed by a Fundraiser for Andrew Pellkofer
DESCRIPTION:Meet at Shastice Bike Park for a Gateway Rate and Ride in the morning\, followed by a Fundraiser for trail builder Andrew Pellkofer. \nEveryone is welcome to attend!
URL:https://thefifthseason.com/event/gateway-rake-ride-followed-by-a-fundraiser-for-andrew-pellkofer/
LOCATION:Shastice Park\, Mt Shasta\, Northern California\, 96067
CATEGORIES:Trail Building
END:VEVENT
BEGIN:VEVENT
DTSTART;TZID=America/Los_Angeles:20190427T020000
DTEND;TZID=America/Los_Angeles:20190427T060000
DTSTAMP:20260422T124819
CREATED:20190413T055226Z
LAST-MODIFIED:20190413T055246Z
UID:1383-1556330400-1556344800@thefifthseason.com
SUMMARY:Gateway Trail Clean up -Work Day-
DESCRIPTION:Spring is here!  It’s time to get the mountain bike trails dialed back in for the season.  We will be starting on the Gateway Trail with a day of trail maintenance.  Help get your local trail back into shape after winter! \nMeet at Shastice Park at 9 AM ready to Work! \n  \nLunch will be provided for those that show up to work on the trail.
URL:https://thefifthseason.com/event/gateway-trail-clean-up-work-day/
LOCATION:Shastice Park\, Mt Shasta\, Northern California\, 96067
CATEGORIES:Trail Building
END:VEVENT
BEGIN:VEVENT
DTSTART;VALUE=DATE:20190416
DTEND;VALUE=DATE:20190423
DTSTAMP:20260422T124819
CREATED:20190415T053914Z
LAST-MODIFIED:20190415T053914Z
UID:1530-1555434000-1555952399@thefifthseason.com
SUMMARY:Spring Cleaning Sale
DESCRIPTION:It’s that time!  The snow is melting off the trails\, the sky’s are getting bluer\, and the temps are getting warmer.  We will be having our spring cleaning sale to get you set up for the up coming spring time! \nUp to 50% off Bikes\, Clothing\, Shoes and much more! \nThe Sale will start Wednesday the 17th for locals first picks\, and run through the weekend ending on Monday the 22nd. \n 
URL:https://thefifthseason.com/event/spring-cleaning-sale/
LOCATION:The Fifth Season\, 300 N. Mount Shasta blvd\, Mount Shasta\, CA\, 96067\, United States
CATEGORIES:Sale
END:VEVENT
END:VCALENDAR